BEGIN:VCALENDAR
VERSION:2.0
PRODID:-//Zanshin Grün-Weiß Fulda 1953 e. V. - ECPv6.15.20//NONSGML v1.0//EN
CALSCALE:GREGORIAN
METHOD:PUBLISH
X-ORIGINAL-URL:https://www.karate-fulda.de
X-WR-CALDESC:Veranstaltungen für Zanshin Grün-Weiß Fulda 1953 e. V.
REFRESH-INTERVAL;VALUE=DURATION:PT1H
X-Robots-Tag:noindex
X-PUBLISHED-TTL:PT1H
BEGIN:VTIMEZONE
TZID:Europe/Berlin
BEGIN:DAYLIGHT
TZOFFSETFROM:+0100
TZOFFSETTO:+0200
TZNAME:CEST
DTSTART:20210328T010000
END:DAYLIGHT
BEGIN:STANDARD
TZOFFSETFROM:+0200
TZOFFSETTO:+0100
TZNAME:CET
DTSTART:20211031T010000
END:STANDARD
BEGIN:DAYLIGHT
TZOFFSETFROM:+0100
TZOFFSETTO:+0200
TZNAME:CEST
DTSTART:20220327T010000
END:DAYLIGHT
BEGIN:STANDARD
TZOFFSETFROM:+0200
TZOFFSETTO:+0100
TZNAME:CET
DTSTART:20221030T010000
END:STANDARD
BEGIN:DAYLIGHT
TZOFFSETFROM:+0100
TZOFFSETTO:+0200
TZNAME:CEST
DTSTART:20230326T010000
END:DAYLIGHT
BEGIN:STANDARD
TZOFFSETFROM:+0200
TZOFFSETTO:+0100
TZNAME:CET
DTSTART:20231029T010000
END:STANDARD
END:VTIMEZONE
BEGIN:VEVENT
DTSTART;TZID=Europe/Berlin:20220306T100000
DTEND;TZID=Europe/Berlin:20220306T150000
DTSTAMP:20260422T062506
CREATED:20220227T165319Z
LAST-MODIFIED:20220227T165545Z
UID:1432-1646560800-1646578800@www.karate-fulda.de
SUMMARY:Lehrgang mit den Landestrainern Kata
DESCRIPTION:Karate Lehrgang mit den HFK Kata-Landestrainern Christine Bernstein & Thorsten Steiner. \nUm 10:00 Uhr geht es mit der ersten Einheit los. Es gibt sowohl Trainingseinheiten für die Unterstufe als auch für die Oberstufe. Weiterhin wird ein Kids-Spezial angeboten. Eine spezielle Einheit für Trainer*innen darf auch nicht fehlen. Um 14:00 Uhr endet der Lehrgang dann mit der Möglichkeit die Kyu-Prüfung (bis 1. Kyu) abzulegen. \nAnmelden könnt ihr euch über den Link in der Ausschreibung\, welche HIER verknüpft ist.
URL:https://www.karate-fulda.de/event/lehrgang-mit-den-landestrainern-kata/
LOCATION:Sporthalle der Albert-Einstein-Schule\, Goethestraße 61\, Maintal\, Hessen\, 63477\, Deutschland
END:VEVENT
END:VCALENDAR