BEGIN:VCALENDAR
VERSION:2.0
PRODID:-//Zanshin Grün-Weiß Fulda 1953 e. V. - ECPv6.15.20//NONSGML v1.0//EN
CALSCALE:GREGORIAN
METHOD:PUBLISH
X-WR-CALNAME:Zanshin Grün-Weiß Fulda 1953 e. V.
X-ORIGINAL-URL:https://www.karate-fulda.de
X-WR-CALDESC:Veranstaltungen für Zanshin Grün-Weiß Fulda 1953 e. V.
REFRESH-INTERVAL;VALUE=DURATION:PT1H
X-Robots-Tag:noindex
X-PUBLISHED-TTL:PT1H
BEGIN:VTIMEZONE
TZID:Europe/Berlin
BEGIN:DAYLIGHT
TZOFFSETFROM:+0100
TZOFFSETTO:+0200
TZNAME:CEST
DTSTART:20210328T010000
END:DAYLIGHT
BEGIN:STANDARD
TZOFFSETFROM:+0200
TZOFFSETTO:+0100
TZNAME:CET
DTSTART:20211031T010000
END:STANDARD
BEGIN:DAYLIGHT
TZOFFSETFROM:+0100
TZOFFSETTO:+0200
TZNAME:CEST
DTSTART:20220327T010000
END:DAYLIGHT
BEGIN:STANDARD
TZOFFSETFROM:+0200
TZOFFSETTO:+0100
TZNAME:CET
DTSTART:20221030T010000
END:STANDARD
BEGIN:DAYLIGHT
TZOFFSETFROM:+0100
TZOFFSETTO:+0200
TZNAME:CEST
DTSTART:20230326T010000
END:DAYLIGHT
BEGIN:STANDARD
TZOFFSETFROM:+0200
TZOFFSETTO:+0100
TZNAME:CET
DTSTART:20231029T010000
END:STANDARD
END:VTIMEZONE
BEGIN:VEVENT
DTSTART;VALUE=DATE:20220409
DTEND;VALUE=DATE:20220411
DTSTAMP:20260422T082546
CREATED:20220407T203019Z
LAST-MODIFIED:20220407T203130Z
UID:1456-1649462400-1649635199@www.karate-fulda.de
SUMMARY:Deutschen Meisterschaften der Leistungsklasse & Para-Karate + Hinrunde Karate Bundesliga
DESCRIPTION:Der Verein MTV Ludwigsburg ist am Samstag Gastgeber der Deutschen Karate-Meisterschaft der Leistungsklasse und Para-Karate. In der Rundsporthalle Ludwigsburg wird um 8.30 Uhr mit dem Einzelwettbewerb in der Disziplin Kata gestartet. Um 11 Uhr starten dann die Kata-Teamwettbewerbe sowie die Wettkämpfe im Para-Karate\, der Variante für Menschen mit geistiger\, körperlicher oder motorischer Behinderung. Für den Samstagnachmittag ab ca. 13 Uhr sind dann die Kämpfe in der Disziplin Kumite vorgesehen. \nDas Karate-Wochenende in der Rundsporthalle wird am Sonntag mit dem Auftakt zur Karate-Bundesliga fortgesetzt. Die bundesweite Spitzenliga wurde vor zwei Jahren wieder eingeführt\, bereits in den 1990er-Jahren hatte es einige Jahre lang einen Bundesliga-Kampfbetrieb gegeben. Da bei der Neuauflage 2020 die Coronavirus-Pandemie den reibungslosen Zeitablauf verhinderte\, freuen wir uns nun auf die zusammenhängende zweite Saison. Nach dem Hinrunden-Turnier am Sonntag in Ludwigsburg sollen die Rückrundenkämpfe im Juni in Erfurt und die Play-Offs im Oktober stattfinden. Beginn des Bundesliga-Turniers in der Rundsporthalle Ludwigsburg ist am Sonntag um 8.30 Uhr. \nDie Ausschreibung findet ihr HIER. \nMehr Infos: https://mtv-ludwigsburg.de/karate-deutsche-meisterschaften/ und https://www.karate.de/de/karate/bundesliga/bundesliga-startseite-2022.php
URL:https://www.karate-fulda.de/event/deutschen-meisterschaften-der-leistungsklasse-para-karate-hinrunde-karate-bundesliga/
LOCATION:Rundsporthalle\, Kurfürstenstraße 23\, Ludwigsburg\, Baden-Württemberg\, 71636\, Deutschland
END:VEVENT
END:VCALENDAR