BEGIN:VCALENDAR
VERSION:2.0
PRODID:-//Zanshin Grün-Weiß Fulda 1953 e. V. - ECPv6.15.20//NONSGML v1.0//EN
CALSCALE:GREGORIAN
METHOD:PUBLISH
X-WR-CALNAME:Zanshin Grün-Weiß Fulda 1953 e. V.
X-ORIGINAL-URL:https://www.karate-fulda.de
X-WR-CALDESC:Veranstaltungen für Zanshin Grün-Weiß Fulda 1953 e. V.
REFRESH-INTERVAL;VALUE=DURATION:PT1H
X-Robots-Tag:noindex
X-PUBLISHED-TTL:PT1H
BEGIN:VTIMEZONE
TZID:Europe/Berlin
BEGIN:DAYLIGHT
TZOFFSETFROM:+0100
TZOFFSETTO:+0200
TZNAME:CEST
DTSTART:20210328T010000
END:DAYLIGHT
BEGIN:STANDARD
TZOFFSETFROM:+0200
TZOFFSETTO:+0100
TZNAME:CET
DTSTART:20211031T010000
END:STANDARD
BEGIN:DAYLIGHT
TZOFFSETFROM:+0100
TZOFFSETTO:+0200
TZNAME:CEST
DTSTART:20220327T010000
END:DAYLIGHT
BEGIN:STANDARD
TZOFFSETFROM:+0200
TZOFFSETTO:+0100
TZNAME:CET
DTSTART:20221030T010000
END:STANDARD
BEGIN:DAYLIGHT
TZOFFSETFROM:+0100
TZOFFSETTO:+0200
TZNAME:CEST
DTSTART:20230326T010000
END:DAYLIGHT
BEGIN:STANDARD
TZOFFSETFROM:+0200
TZOFFSETTO:+0100
TZNAME:CET
DTSTART:20231029T010000
END:STANDARD
END:VTIMEZONE
BEGIN:VEVENT
DTSTART;TZID=Europe/Berlin:20221109T160000
DTEND;TZID=Europe/Berlin:20221109T210000
DTSTAMP:20260422T112104
CREATED:20221117T194147Z
LAST-MODIFIED:20221117T194147Z
UID:1533-1668009600-1668027600@www.karate-fulda.de
SUMMARY:Kata Shiai Fulda `22
DESCRIPTION:Unser Dojo veranstaltet auch dieses Jahr ein kleines internes Kata Shiai\, da der Fulda Cup leider nicht mehr stattfinden konnte. Alle Interessierten dürfen teilnehmen und einen Hauch von Wettkampf-Flair schnuppern. Kinder bis Masterklasse\, jede und jeder ist willkommen. Als kleinen Bonus gibt es auch einen Trainings-Kumite-Wettkampf für die Starter:innen der kommenden Turniere. Meldet euch für weitere Informationen bei euren Trainern.
URL:https://www.karate-fulda.de/event/kata-shiai-fulda-22/
LOCATION:Sporthalle der Pestalozzischule\, Abt-Richard-Strasse 5\, Fulda\, Hessen\, 36041\, Deutschland
CATEGORIES:Event
END:VEVENT
END:VCALENDAR