BEGIN:VCALENDAR
VERSION:2.0
PRODID:-//Zanshin Grün-Weiß Fulda 1953 e. V. - ECPv6.15.20//NONSGML v1.0//EN
CALSCALE:GREGORIAN
METHOD:PUBLISH
X-ORIGINAL-URL:https://www.karate-fulda.de
X-WR-CALDESC:Veranstaltungen für Zanshin Grün-Weiß Fulda 1953 e. V.
REFRESH-INTERVAL;VALUE=DURATION:PT1H
X-Robots-Tag:noindex
X-PUBLISHED-TTL:PT1H
BEGIN:VTIMEZONE
TZID:Europe/Berlin
BEGIN:DAYLIGHT
TZOFFSETFROM:+0100
TZOFFSETTO:+0200
TZNAME:CEST
DTSTART:20210328T010000
END:DAYLIGHT
BEGIN:STANDARD
TZOFFSETFROM:+0200
TZOFFSETTO:+0100
TZNAME:CET
DTSTART:20211031T010000
END:STANDARD
BEGIN:DAYLIGHT
TZOFFSETFROM:+0100
TZOFFSETTO:+0200
TZNAME:CEST
DTSTART:20220327T010000
END:DAYLIGHT
BEGIN:STANDARD
TZOFFSETFROM:+0200
TZOFFSETTO:+0100
TZNAME:CET
DTSTART:20221030T010000
END:STANDARD
BEGIN:DAYLIGHT
TZOFFSETFROM:+0100
TZOFFSETTO:+0200
TZNAME:CEST
DTSTART:20230326T010000
END:DAYLIGHT
BEGIN:STANDARD
TZOFFSETFROM:+0200
TZOFFSETTO:+0100
TZNAME:CET
DTSTART:20231029T010000
END:STANDARD
END:VTIMEZONE
BEGIN:VEVENT
DTSTART;TZID=Europe/Berlin:20221126T080000
DTEND;TZID=Europe/Berlin:20221126T170000
DTSTAMP:20260422T112406
CREATED:20221117T193558Z
LAST-MODIFIED:20221117T193757Z
UID:1527-1669449600-1669482000@www.karate-fulda.de
SUMMARY:30. Odenwald Cup
DESCRIPTION:Der 30. Internationale Odenwald-Cup steht vor der Tür!  Der Jubiläums-Odenwald-Cup findet am 26. November 2022 in der  Weschnitztalhalle\, Schulstraße 12\, 69509 Mörlenbach statt.  Nach Meldeschluss des Internationalen Jubiläum-Odenwald-Cup’s steht fest\, dass nun  79 Vereine teilnehmen. Darunter 498 Meldungen und 396 Teilnehmer aus 6 verschiedenen  Nationen.  Zur Feier des 30. Jubiläums wird eine große Tombola veranstaltet!  \nWeitere Infos gibt es HIER.
URL:https://www.karate-fulda.de/event/30-odenwald-cup/
LOCATION:Weschnitztalhalle Mörlenbach\, Schulstraße 12\, Mörlenbach\, Baden-Württemberg\, 69509\, Deutschland
CATEGORIES:Wettkämpfe
END:VEVENT
END:VCALENDAR