BEGIN:VCALENDAR
VERSION:2.0
PRODID:-//Zanshin Grün-Weiß Fulda 1953 e. V. - ECPv6.15.20//NONSGML v1.0//EN
CALSCALE:GREGORIAN
METHOD:PUBLISH
X-ORIGINAL-URL:https://www.karate-fulda.de
X-WR-CALDESC:Veranstaltungen für Zanshin Grün-Weiß Fulda 1953 e. V.
REFRESH-INTERVAL;VALUE=DURATION:PT1H
X-Robots-Tag:noindex
X-PUBLISHED-TTL:PT1H
BEGIN:VTIMEZONE
TZID:Europe/Berlin
BEGIN:DAYLIGHT
TZOFFSETFROM:+0100
TZOFFSETTO:+0200
TZNAME:CEST
DTSTART:20190331T010000
END:DAYLIGHT
BEGIN:STANDARD
TZOFFSETFROM:+0200
TZOFFSETTO:+0100
TZNAME:CET
DTSTART:20191027T010000
END:STANDARD
BEGIN:DAYLIGHT
TZOFFSETFROM:+0100
TZOFFSETTO:+0200
TZNAME:CEST
DTSTART:20200329T010000
END:DAYLIGHT
BEGIN:STANDARD
TZOFFSETFROM:+0200
TZOFFSETTO:+0100
TZNAME:CET
DTSTART:20201025T010000
END:STANDARD
BEGIN:DAYLIGHT
TZOFFSETFROM:+0100
TZOFFSETTO:+0200
TZNAME:CEST
DTSTART:20210328T010000
END:DAYLIGHT
BEGIN:STANDARD
TZOFFSETFROM:+0200
TZOFFSETTO:+0100
TZNAME:CET
DTSTART:20211031T010000
END:STANDARD
END:VTIMEZONE
BEGIN:VEVENT
DTSTART;TZID=Europe/Berlin:20200202T100000
DTEND;TZID=Europe/Berlin:20200202T140000
DTSTAMP:20260426T021912
CREATED:20200126T162749Z
LAST-MODIFIED:20200126T162802Z
UID:1226-1580637600-1580652000@www.karate-fulda.de
SUMMARY:HFK Opening 2020
DESCRIPTION:Das diesjährige HFK Opening des Hessischen Fachverbands für Karate wird vom Karateverein Friedberg e.V. ausgerichtet. \nAm 02. Februar geht es um 10:00 Uhr in der Steinkopf Sporthalle in Friedberg-Ockstadt los. Bis ca. 13:45 Uhr wird hier ein breites Programm an Kata\, Kumite\, Athletik und Kindertraining geboten. Die Teilnahme ist kostenlos! \nAnschließend kann sich beim gemeinsamen Umtrunk ausgetauscht werden. \nDie Ausschreibung findet ihr >> hier.
URL:https://www.karate-fulda.de/event/hfk-opening2020/
LOCATION:Steinkopf Sporthalle\, Friedberger Straße 96\, Friedberg-Ockstadt\, Hessen\, 61169\, Deutschland
CATEGORIES:Lehrgänge
END:VEVENT
BEGIN:VEVENT
DTSTART;VALUE=DATE:20200215
DTEND;VALUE=DATE:20200217
DTSTAMP:20260426T021912
CREATED:20200209T184407Z
LAST-MODIFIED:20200209T184407Z
UID:1243-1581724800-1581897599@www.karate-fulda.de
SUMMARY:Offene Landesmeisterschaft Hessen/Rheinland-Pfalz
DESCRIPTION:Landesmeisterschaften der Jugend\, Junioren\, U21\, Leistungsklasse\, Masterklasse und Para-Karate. \nAm 15. und 16. Februar finden die Landesmeisterschaften des Hessischen Fachverbands für Karate und des Rheinland-Pfälzischen Karateverbands in Form einer gemeinsamen Landesmeisterschaft in Frankenthal (Rheinland-Pfalz) statt. \nDiese Meisterschaft dient beiden Landesverbänden als Pilotprojekt. Um einen professionelleren Rahmen zu bieten\, kooperieren beide Verbände und erzielen damit eine höhere Teilnehmer- und Kampfrichterzahl. \nBitte entnehmt der Ausschreibung alle weiteren Informationen.
URL:https://www.karate-fulda.de/event/landesmeisterschaft-hessen-rheinland-pfalz/
LOCATION:Robert Schumann IGS Frankenthal\, Ziegelhofweg 16\, Frankenthal\, Rheinland-Pfalz\, 67227\, Deutschland
CATEGORIES:Wettkämpfe
END:VEVENT
END:VCALENDAR