BEGIN:VCALENDAR
VERSION:2.0
PRODID:-//Zanshin Grün-Weiß Fulda 1953 e. V. - ECPv6.15.20//NONSGML v1.0//EN
CALSCALE:GREGORIAN
METHOD:PUBLISH
X-ORIGINAL-URL:https://www.karate-fulda.de
X-WR-CALDESC:Veranstaltungen für Zanshin Grün-Weiß Fulda 1953 e. V.
REFRESH-INTERVAL;VALUE=DURATION:PT1H
X-Robots-Tag:noindex
X-PUBLISHED-TTL:PT1H
BEGIN:VTIMEZONE
TZID:Europe/Berlin
BEGIN:DAYLIGHT
TZOFFSETFROM:+0100
TZOFFSETTO:+0200
TZNAME:CEST
DTSTART:20200329T010000
END:DAYLIGHT
BEGIN:STANDARD
TZOFFSETFROM:+0200
TZOFFSETTO:+0100
TZNAME:CET
DTSTART:20201025T010000
END:STANDARD
BEGIN:DAYLIGHT
TZOFFSETFROM:+0100
TZOFFSETTO:+0200
TZNAME:CEST
DTSTART:20210328T010000
END:DAYLIGHT
BEGIN:STANDARD
TZOFFSETFROM:+0200
TZOFFSETTO:+0100
TZNAME:CET
DTSTART:20211031T010000
END:STANDARD
BEGIN:DAYLIGHT
TZOFFSETFROM:+0100
TZOFFSETTO:+0200
TZNAME:CEST
DTSTART:20220327T010000
END:DAYLIGHT
BEGIN:STANDARD
TZOFFSETFROM:+0200
TZOFFSETTO:+0100
TZNAME:CET
DTSTART:20221030T010000
END:STANDARD
END:VTIMEZONE
BEGIN:VEVENT
DTSTART;VALUE=DATE:20210918
DTEND;VALUE=DATE:20210920
DTSTAMP:20260421T225150
CREATED:20210918T105230Z
LAST-MODIFIED:20210918T114330Z
UID:1369-1631923200-1632095999@www.karate-fulda.de
SUMMARY:Deutsche Meisterschaften in Berlin
DESCRIPTION:Die gesamten Deutschen Meisterschaften im Karate finden an diesem Wochenende in Berlin statt! \nDeutsche Meisterschaft der Leistungsklasse und Para-Karate\, der Schüler:innen und Masterklassen vom 18. bis 19.09.2021\n \nSportdata macht es sogar möglich\, dass es von den Deutschen Meisterschaften in der Leistungsklasse und im Para-Karate sowie von den Titelkämpfen der Schülerinnen und Schüler am 18./19. September unkommentierte Live-Streams gibt. Pro Wettkampf-Matte überträgt eine Kamera das Geschehen ins Netz. Welches Tatami Sie bevorzugen\, bleibt Ihnen überlassen. Sie können wählen. Die Streams starten immer zehn Minuten vor dem offiziellen Wettkampf-Beginn. Sobald der Stream beendet ist\, steht das Video jederzeit auf dem YouTube Kanal von Sportdata zur Verfügung. \nLinks und weitere Informationen auf der Webiste vom Deutschen Karateverband >> HIER \n\nVier Karatekas von Zanshin Grün-Weiß Fulda haben sich qualifiziert und nehmen daran teil. Ein großer Erfolg für unsere Karateabteilung des SV Grün-Weiß Fulda 1953 e.V.!\nUnsere Starter:innen sind Anna Reichel ( Kata ) \, Lejlad Hasic ( Kumite ) \, Rebecca Ohnesorge ( Kata ) und Benedikt Manns ( Kata-Team ).\nDie Trainer Werner Kunzmann 5. Dan und Minh-Thuong Le 1. Dan drücken allen die Daumen und sind sehr gespannt auf ihre Platzierungen.
URL:https://www.karate-fulda.de/event/deutsche-meisterschaften/
LOCATION:Horst-Korber-Sportzentrum\, Glockenturmstraße\, Westend\, Charlottenburg-Wilmersdorf\, Berlin\, 14053\, Deutschland
CATEGORIES:Event,Wettkämpfe
END:VEVENT
BEGIN:VEVENT
DTSTART;TZID=Europe/Berlin:20210922T163000
DTEND;TZID=Europe/Berlin:20210922T210000
DTSTAMP:20260421T225150
CREATED:20210918T102139Z
LAST-MODIFIED:20210918T113839Z
UID:1363-1632328200-1632344400@www.karate-fulda.de
SUMMARY:Kyu Prüfungen unseres Dojos
DESCRIPTION:
URL:https://www.karate-fulda.de/event/kyu-pruefungen-unser-dojo/
LOCATION:Sporthalle der Pestalozzischule\, Abt-Richard-Strasse 5\, Fulda\, Hessen\, 36041\, Deutschland
CATEGORIES:Prüfungen
END:VEVENT
BEGIN:VEVENT
DTSTART;VALUE=DATE:20210925
DTEND;VALUE=DATE:20210927
DTSTAMP:20260421T225150
CREATED:20210918T102708Z
LAST-MODIFIED:20210918T113902Z
UID:1366-1632528000-1632700799@www.karate-fulda.de
SUMMARY:Trainingswochenende Rodholz
DESCRIPTION:In guter alter Tradition werden wir dieses Jahr endlich wieder ein gemeinsames Wochenende in der Jugendherberge in Rodholz verbringen. In der gemütlichen Jugendherberge mitten in der Rhön steht uns ein eigener Trainingsraum zur Verfügung. Bei mehreren Trainingseinheiten\, Aktivitäten in der Natur & gemeinschaftlichem Grillen werden wir schöne Stunden verbringen. Anmeldung & Zahlung sowie weitere Informationen erhaltet ihr über unsere Trainer.
URL:https://www.karate-fulda.de/event/trainingswochenende-rodholz-2/
LOCATION:DJO-Landesheim Rodholz\, Am Heckenhöfchen 2\, Poppenhausen\, Hessen\, 36163\, Deutschland
CATEGORIES:Lehrgänge
END:VEVENT
END:VCALENDAR