BEGIN:VCALENDAR
VERSION:2.0
PRODID:-//Zanshin Grün-Weiß Fulda 1953 e. V. - ECPv6.15.20//NONSGML v1.0//EN
CALSCALE:GREGORIAN
METHOD:PUBLISH
X-ORIGINAL-URL:https://www.karate-fulda.de
X-WR-CALDESC:Veranstaltungen für Zanshin Grün-Weiß Fulda 1953 e. V.
REFRESH-INTERVAL;VALUE=DURATION:PT1H
X-Robots-Tag:noindex
X-PUBLISHED-TTL:PT1H
BEGIN:VTIMEZONE
TZID:Europe/Berlin
BEGIN:DAYLIGHT
TZOFFSETFROM:+0100
TZOFFSETTO:+0200
TZNAME:CEST
DTSTART:20210328T010000
END:DAYLIGHT
BEGIN:STANDARD
TZOFFSETFROM:+0200
TZOFFSETTO:+0100
TZNAME:CET
DTSTART:20211031T010000
END:STANDARD
BEGIN:DAYLIGHT
TZOFFSETFROM:+0100
TZOFFSETTO:+0200
TZNAME:CEST
DTSTART:20220327T010000
END:DAYLIGHT
BEGIN:STANDARD
TZOFFSETFROM:+0200
TZOFFSETTO:+0100
TZNAME:CET
DTSTART:20221030T010000
END:STANDARD
BEGIN:DAYLIGHT
TZOFFSETFROM:+0100
TZOFFSETTO:+0200
TZNAME:CEST
DTSTART:20230326T010000
END:DAYLIGHT
BEGIN:STANDARD
TZOFFSETFROM:+0200
TZOFFSETTO:+0100
TZNAME:CET
DTSTART:20231029T010000
END:STANDARD
END:VTIMEZONE
BEGIN:VEVENT
DTSTART;VALUE=DATE:20220402
DTEND;VALUE=DATE:20220403
DTSTAMP:20260422T064438
CREATED:20220227T163845Z
LAST-MODIFIED:20220227T164053Z
UID:1425-1648857600-1648943999@www.karate-fulda.de
SUMMARY:Landesmeisterschaften der Jugend\, Junioren\, U21\, Leistungsklasse\, Masterklasse und Para-Karate 2022
DESCRIPTION:Nachdem am 12. Februar 2022 abgesagt\, sollen die Landesmeisterschaften des Rheinland-Pfälzischen Karateverbands und des Hessischen Fachverbands für Karate in Form einer gemeinsamen Landesmeisterschaft in Rüsselsheim (Hessen) nachgeholt werden. Vorgesehen ist der 2. April 2022.\nDie Veranstaltung findet voraussichtlich in der Großsporthalle Rüsselsheim\, Evreuxring 31\, 65428 Rüsselsheim am Main statt. \nEine offizielle Ausschreibung gibt es bisher nicht. Die vorläufige Information findet ihr HIER. \nDie Information gilt vorbehaltlich der weiteren Corona-Entwicklung.
URL:https://www.karate-fulda.de/event/landesmeisterschaften-der-jugend-junioren-u21-leistungsklasse-masterklasse-und-para-karate-2022/
LOCATION:Karate Dojo Rüsselsheim e.V.\, Evreuxring 31\, Rüsselsheim am Main\, Hessen\, 65428\, Deutschland
CATEGORIES:Wettkämpfe
END:VEVENT
BEGIN:VEVENT
DTSTART;TZID=Europe/Berlin:20220406T170000
DTEND;TZID=Europe/Berlin:20220406T193000
DTSTAMP:20260422T064438
CREATED:20220302T163120Z
LAST-MODIFIED:20220302T163120Z
UID:1449-1649264400-1649273400@www.karate-fulda.de
SUMMARY:Kyu-Prüfungen in Fulda
DESCRIPTION:Die nächsten vereinsinternen Shotokan Kyu-Prüfungen stehen an! 🙂
URL:https://www.karate-fulda.de/event/kyu-pruefungen-in-fulda/
LOCATION:Sporthalle der Pestalozzischule\, Abt-Richard-Strasse 5\, Fulda\, Hessen\, 36041\, Deutschland
CATEGORIES:Prüfungen
END:VEVENT
BEGIN:VEVENT
DTSTART;VALUE=DATE:20220409
DTEND;VALUE=DATE:20220411
DTSTAMP:20260422T064438
CREATED:20220407T203019Z
LAST-MODIFIED:20220407T203130Z
UID:1456-1649462400-1649635199@www.karate-fulda.de
SUMMARY:Deutschen Meisterschaften der Leistungsklasse & Para-Karate + Hinrunde Karate Bundesliga
DESCRIPTION:Der Verein MTV Ludwigsburg ist am Samstag Gastgeber der Deutschen Karate-Meisterschaft der Leistungsklasse und Para-Karate. In der Rundsporthalle Ludwigsburg wird um 8.30 Uhr mit dem Einzelwettbewerb in der Disziplin Kata gestartet. Um 11 Uhr starten dann die Kata-Teamwettbewerbe sowie die Wettkämpfe im Para-Karate\, der Variante für Menschen mit geistiger\, körperlicher oder motorischer Behinderung. Für den Samstagnachmittag ab ca. 13 Uhr sind dann die Kämpfe in der Disziplin Kumite vorgesehen. \nDas Karate-Wochenende in der Rundsporthalle wird am Sonntag mit dem Auftakt zur Karate-Bundesliga fortgesetzt. Die bundesweite Spitzenliga wurde vor zwei Jahren wieder eingeführt\, bereits in den 1990er-Jahren hatte es einige Jahre lang einen Bundesliga-Kampfbetrieb gegeben. Da bei der Neuauflage 2020 die Coronavirus-Pandemie den reibungslosen Zeitablauf verhinderte\, freuen wir uns nun auf die zusammenhängende zweite Saison. Nach dem Hinrunden-Turnier am Sonntag in Ludwigsburg sollen die Rückrundenkämpfe im Juni in Erfurt und die Play-Offs im Oktober stattfinden. Beginn des Bundesliga-Turniers in der Rundsporthalle Ludwigsburg ist am Sonntag um 8.30 Uhr. \nDie Ausschreibung findet ihr HIER. \nMehr Infos: https://mtv-ludwigsburg.de/karate-deutsche-meisterschaften/ und https://www.karate.de/de/karate/bundesliga/bundesliga-startseite-2022.php
URL:https://www.karate-fulda.de/event/deutschen-meisterschaften-der-leistungsklasse-para-karate-hinrunde-karate-bundesliga/
LOCATION:Rundsporthalle\, Kurfürstenstraße 23\, Ludwigsburg\, Baden-Württemberg\, 71636\, Deutschland
END:VEVENT
END:VCALENDAR