BEGIN:VCALENDAR
VERSION:2.0
PRODID:-//Zanshin Grün-Weiß Fulda 1953 e. V. - ECPv6.15.20//NONSGML v1.0//EN
CALSCALE:GREGORIAN
METHOD:PUBLISH
X-ORIGINAL-URL:https://www.karate-fulda.de
X-WR-CALDESC:Veranstaltungen für Zanshin Grün-Weiß Fulda 1953 e. V.
REFRESH-INTERVAL;VALUE=DURATION:PT1H
X-Robots-Tag:noindex
X-PUBLISHED-TTL:PT1H
BEGIN:VTIMEZONE
TZID:Europe/Berlin
BEGIN:DAYLIGHT
TZOFFSETFROM:+0100
TZOFFSETTO:+0200
TZNAME:CEST
DTSTART:20220327T010000
END:DAYLIGHT
BEGIN:STANDARD
TZOFFSETFROM:+0200
TZOFFSETTO:+0100
TZNAME:CET
DTSTART:20221030T010000
END:STANDARD
BEGIN:DAYLIGHT
TZOFFSETFROM:+0100
TZOFFSETTO:+0200
TZNAME:CEST
DTSTART:20230326T010000
END:DAYLIGHT
BEGIN:STANDARD
TZOFFSETFROM:+0200
TZOFFSETTO:+0100
TZNAME:CET
DTSTART:20231029T010000
END:STANDARD
BEGIN:DAYLIGHT
TZOFFSETFROM:+0100
TZOFFSETTO:+0200
TZNAME:CEST
DTSTART:20240331T010000
END:DAYLIGHT
BEGIN:STANDARD
TZOFFSETFROM:+0200
TZOFFSETTO:+0100
TZNAME:CET
DTSTART:20241027T010000
END:STANDARD
END:VTIMEZONE
BEGIN:VEVENT
DTSTART;TZID=Europe/Berlin:20230719T163000
DTEND;TZID=Europe/Berlin:20230719T203000
DTSTAMP:20260422T124659
CREATED:20230716T134031Z
LAST-MODIFIED:20230716T134244Z
UID:1596-1689784200-1689798600@www.karate-fulda.de
SUMMARY:Kyu Prüfungen Sommer `23
DESCRIPTION:Es ist wieder einmal Zeit für neue Gürtelgrade in unserem Dojo! 🙂 Die Kyu Prüfungen werden für Kinder und Erwachsene von Prüfer Werner Kunzmann abgenommen. Bei Rückfragen wendet euch an eure Trainer.
URL:https://www.karate-fulda.de/event/kyu-pruefungen-sommer-23/
LOCATION:Sporthalle der Pestalozzischule\, Abt-Richard-Strasse 5\, Fulda\, Hessen\, 36041\, Deutschland
END:VEVENT
END:VCALENDAR