BEGIN:VCALENDAR
VERSION:2.0
PRODID:-//Zanshin Grün-Weiß Fulda 1953 e. V. - ECPv6.15.20//NONSGML v1.0//EN
CALSCALE:GREGORIAN
METHOD:PUBLISH
X-ORIGINAL-URL:https://www.karate-fulda.de
X-WR-CALDESC:Veranstaltungen für Zanshin Grün-Weiß Fulda 1953 e. V.
REFRESH-INTERVAL;VALUE=DURATION:PT1H
X-Robots-Tag:noindex
X-PUBLISHED-TTL:PT1H
BEGIN:VTIMEZONE
TZID:Europe/Berlin
BEGIN:DAYLIGHT
TZOFFSETFROM:+0100
TZOFFSETTO:+0200
TZNAME:CEST
DTSTART:20240331T010000
END:DAYLIGHT
BEGIN:STANDARD
TZOFFSETFROM:+0200
TZOFFSETTO:+0100
TZNAME:CET
DTSTART:20241027T010000
END:STANDARD
BEGIN:DAYLIGHT
TZOFFSETFROM:+0100
TZOFFSETTO:+0200
TZNAME:CEST
DTSTART:20250330T010000
END:DAYLIGHT
BEGIN:STANDARD
TZOFFSETFROM:+0200
TZOFFSETTO:+0100
TZNAME:CET
DTSTART:20251026T010000
END:STANDARD
BEGIN:DAYLIGHT
TZOFFSETFROM:+0100
TZOFFSETTO:+0200
TZNAME:CEST
DTSTART:20260329T010000
END:DAYLIGHT
BEGIN:STANDARD
TZOFFSETFROM:+0200
TZOFFSETTO:+0100
TZNAME:CET
DTSTART:20261025T010000
END:STANDARD
END:VTIMEZONE
BEGIN:VEVENT
DTSTART;TZID=Europe/Berlin:20250426T110000
DTEND;TZID=Europe/Berlin:20250426T160000
DTSTAMP:20260421T150118
CREATED:20250409T150522Z
LAST-MODIFIED:20250409T150733Z
UID:1732-1745665200-1745683200@www.karate-fulda.de
SUMMARY:Karate X Taijiquan
DESCRIPTION:Am 26.04.2025 wird es einen Kooperationslehrgang zwischen der Karateabteilung des TV 1891 Hoof e.V. (Nähe Kassel) und Nabil Rané\, Gründer des Chen Taijiquan Netzwerks\, geben. Der Lehrgang wird sich mit Grundlagen aus dem Chen Taijiquan beschäftigen und eine Übertragung in das Shotokan Karate diskutieren. \nAusrichter ist der Karate Verein unseres ehemaligen Abteilungsleiters Lenz Hocher und wir sind herzlich eingeladen teilzunehmen. Eine vorherige Anmeldung ist erwünscht – die Kommunikation dazu gerne über Julia Fredrich. \nDie Ausschreibung findet ihr -> HIER
URL:https://www.karate-fulda.de/event/karate-x-taijiquan/
LOCATION:Schauenburg Halle\, Wahlgemeinde 21\, Schauenburg\, Hessen\, 34270
CATEGORIES:Lehrgänge
END:VEVENT
END:VCALENDAR